BEGIN:VCALENDAR
VERSION:2.0
PRODID:-//Scenic Bay - ECPv6.15.20//NONSGML v1.0//EN
CALSCALE:GREGORIAN
METHOD:PUBLISH
X-ORIGINAL-URL:https://scenicbaybaptist.org
X-WR-CALDESC:Events for Scenic Bay
REFRESH-INTERVAL;VALUE=DURATION:PT1H
X-Robots-Tag:noindex
X-PUBLISHED-TTL:PT1H
BEGIN:VTIMEZONE
TZID:UTC
BEGIN:STANDARD
TZOFFSETFROM:+0000
TZOFFSETTO:+0000
TZNAME:UTC
DTSTART:20220101T000000
END:STANDARD
END:VTIMEZONE
BEGIN:VEVENT
DTSTART;TZID=UTC:20250323T123000
DTEND;TZID=UTC:20250323T140000
DTSTAMP:20260423T145634
CREATED:20250301T000424Z
LAST-MODIFIED:20250301T000424Z
UID:1001-1742733000-1742738400@scenicbaybaptist.org
SUMMARY:Singspiration
DESCRIPTION:
URL:https://scenicbaybaptist.org/event/singspiration
ATTACH;FMTTYPE=image/png:https://scenicbaybaptist.org/wp-content/uploads/2024/01/world-music-day-social-media-template-1.png
END:VEVENT
BEGIN:VEVENT
DTSTART;TZID=UTC:20250309T123000
DTEND;TZID=UTC:20250309T143000
DTSTAMP:20260423T145634
CREATED:20250301T000337Z
LAST-MODIFIED:20250301T000337Z
UID:999-1741523400-1741530600@scenicbaybaptist.org
SUMMARY:Fellowship Dinner
DESCRIPTION:
URL:https://scenicbaybaptist.org/event/fellowship-dinner-4
ATTACH;FMTTYPE=image/png:https://scenicbaybaptist.org/wp-content/uploads/2024/01/Cream-and-Purple-Derby-Dinner-Horse-Poster.png
END:VEVENT
BEGIN:VEVENT
DTSTART;TZID=UTC:20250302T120000
DTEND;TZID=UTC:20250302T121500
DTSTAMP:20260423T145634
CREATED:20250301T000247Z
LAST-MODIFIED:20250301T000247Z
UID:997-1740916800-1740917700@scenicbaybaptist.org
SUMMARY:Lord's Supper
DESCRIPTION:
URL:https://scenicbaybaptist.org/event/lords-supper-4
ATTACH;FMTTYPE=image/png:https://scenicbaybaptist.org/wp-content/uploads/2024/01/Bread-Making-Simple-Instagram-Post-1.png
END:VEVENT
BEGIN:VEVENT
DTSTART;TZID=UTC:20240707T110000
DTEND;TZID=UTC:20240707T120000
DTSTAMP:20260423T145634
CREATED:20240610T013354Z
LAST-MODIFIED:20240610T013354Z
UID:914-1720350000-1720353600@scenicbaybaptist.org
SUMMARY:Missionary Speaker
DESCRIPTION:Our missionaries\, the Woodfins\, will be stopping by to share how their ministry is going in Ecuador.
URL:https://scenicbaybaptist.org/event/missionary-speaker-4
ATTACH;FMTTYPE=image/png:https://scenicbaybaptist.org/wp-content/uploads/2024/01/Green-Simple-Illustration-World-Earth-Day-Quotes-Instagram-Post.png
END:VEVENT
BEGIN:VEVENT
DTSTART;TZID=UTC:20240623T123000
DTEND;TZID=UTC:20240623T133000
DTSTAMP:20260423T145634
CREATED:20240610T013227Z
LAST-MODIFIED:20240610T013227Z
UID:912-1719145800-1719149400@scenicbaybaptist.org
SUMMARY:Fellowship Dinner
DESCRIPTION:
URL:https://scenicbaybaptist.org/event/fellowship-dinner-3
ATTACH;FMTTYPE=image/png:https://scenicbaybaptist.org/wp-content/uploads/2024/01/Cream-and-Purple-Derby-Dinner-Horse-Poster.png
END:VEVENT
BEGIN:VEVENT
DTSTART;VALUE=DATE:20240616
DTEND;VALUE=DATE:20240617
DTSTAMP:20260423T145634
CREATED:20240610T014212Z
LAST-MODIFIED:20240610T014231Z
UID:916-1718496000-1718582399@scenicbaybaptist.org
SUMMARY:Father's Day
DESCRIPTION:Happy Father’s Day to all the Dads!
URL:https://scenicbaybaptist.org/event/fathers-day
ATTACH;FMTTYPE=image/png:https://scenicbaybaptist.org/wp-content/uploads/2024/06/Fathers-Day-Facebook-Post-e1719802974519.png
END:VEVENT
BEGIN:VEVENT
DTSTART;TZID=UTC:20240303T120000
DTEND;TZID=UTC:20240303T123000
DTSTAMP:20260423T145634
CREATED:20240218T025925Z
LAST-MODIFIED:20240218T025925Z
UID:881-1709467200-1709469000@scenicbaybaptist.org
SUMMARY:Lord's Supper
DESCRIPTION:
URL:https://scenicbaybaptist.org/event/lords-supper-3
ATTACH;FMTTYPE=image/png:https://scenicbaybaptist.org/wp-content/uploads/2024/01/Bread-Making-Simple-Instagram-Post-1.png
END:VEVENT
BEGIN:VEVENT
DTSTART;TZID=UTC:20240303T110000
DTEND;TZID=UTC:20240303T120000
DTSTAMP:20260423T145634
CREATED:20240127T231927Z
LAST-MODIFIED:20240127T231927Z
UID:860-1709463600-1709467200@scenicbaybaptist.org
SUMMARY:Missionary Speaker
DESCRIPTION:Brother Derek Thomas will be at our church sharing his burden for the people of Ukraine. He and his wife\, Julie\, have been working hard on the fruitful mission field of Ukraine and have a desire to be a blessing to our church!
URL:https://scenicbaybaptist.org/event/missionary-speaker-3
ATTACH;FMTTYPE=image/png:https://scenicbaybaptist.org/wp-content/uploads/2024/01/Green-Simple-Illustration-World-Earth-Day-Quotes-Instagram-Post.png
END:VEVENT
BEGIN:VEVENT
DTSTART;TZID=UTC:20240225T123000
DTEND;TZID=UTC:20240225T133000
DTSTAMP:20260423T145634
CREATED:20240127T231558Z
LAST-MODIFIED:20240127T231558Z
UID:858-1708864200-1708867800@scenicbaybaptist.org
SUMMARY:Fellowship Dinner
DESCRIPTION:
URL:https://scenicbaybaptist.org/event/fellowship-dinner-2
ATTACH;FMTTYPE=image/png:https://scenicbaybaptist.org/wp-content/uploads/2024/01/Cream-and-Purple-Derby-Dinner-Horse-Poster.png
END:VEVENT
BEGIN:VEVENT
DTSTART;TZID=UTC:20240225T123000
DTEND;TZID=UTC:20240225T133000
DTSTAMP:20260423T145634
CREATED:20240114T181846Z
LAST-MODIFIED:20240218T025737Z
UID:852-1708864200-1708867800@scenicbaybaptist.org
SUMMARY:Business Meeting
DESCRIPTION:Immediately following the morning service we will have our business meeting. All Church members are encouraged to attend!
URL:https://scenicbaybaptist.org/event/business-meeting
ATTACH;FMTTYPE=image/png:https://scenicbaybaptist.org/wp-content/uploads/2024/01/Green-Brown-Simple-Minimalist-Announcement-Town-Hall-Meeting-Instagram-Post.png
END:VEVENT
BEGIN:VEVENT
DTSTART;TZID=UTC:20240221T190000
DTEND;TZID=UTC:20240221T200000
DTSTAMP:20260423T145634
CREATED:20240101T000044Z
LAST-MODIFIED:20240218T025655Z
UID:824-1708542000-1708545600@scenicbaybaptist.org
SUMMARY:Missionary Speaker
DESCRIPTION:Missionary Ryan Goodall to Columbia is going to be bringing a presentation.
URL:https://scenicbaybaptist.org/event/missionary-speaker-2
ATTACH;FMTTYPE=image/png:https://scenicbaybaptist.org/wp-content/uploads/2024/01/Green-Simple-Illustration-World-Earth-Day-Quotes-Instagram-Post.png
END:VEVENT
BEGIN:VEVENT
DTSTART;TZID=UTC:20240214T190000
DTEND;TZID=UTC:20240214T200000
DTSTAMP:20260423T145634
CREATED:20240101T000038Z
LAST-MODIFIED:20240102T015251Z
UID:822-1707937200-1707940800@scenicbaybaptist.org
SUMMARY:Missionary Speaker
DESCRIPTION:Southland Camp Ministries team is going to give a presentation in our Wednesday evening service.
URL:https://scenicbaybaptist.org/event/missionary-speaker
ATTACH;FMTTYPE=image/png:https://scenicbaybaptist.org/wp-content/uploads/2024/01/Green-Simple-Illustration-World-Earth-Day-Quotes-Instagram-Post.png
END:VEVENT
BEGIN:VEVENT
DTSTART;TZID=UTC:20240211T120000
DTEND;TZID=UTC:20240211T123000
DTSTAMP:20260423T145634
CREATED:20240127T232021Z
LAST-MODIFIED:20240127T232021Z
UID:862-1707652800-1707654600@scenicbaybaptist.org
SUMMARY:Lord's Supper
DESCRIPTION:
URL:https://scenicbaybaptist.org/event/lords-supper-2
ATTACH;FMTTYPE=image/png:https://scenicbaybaptist.org/wp-content/uploads/2024/01/Bread-Making-Simple-Instagram-Post-1.png
END:VEVENT
BEGIN:VEVENT
DTSTART;TZID=UTC:20240128T123000
DTEND;TZID=UTC:20240128T133000
DTSTAMP:20260423T145634
CREATED:20240101T000013Z
LAST-MODIFIED:20240102T013954Z
UID:826-1706445000-1706448600@scenicbaybaptist.org
SUMMARY:Fellowship Dinner
DESCRIPTION:
URL:https://scenicbaybaptist.org/event/fellowship-dinner
ATTACH;FMTTYPE=image/png:https://scenicbaybaptist.org/wp-content/uploads/2024/01/Cream-and-Purple-Derby-Dinner-Horse-Poster.png
END:VEVENT
BEGIN:VEVENT
DTSTART;TZID=UTC:20240114T130000
DTEND;TZID=UTC:20240114T140000
DTSTAMP:20260423T145634
CREATED:20240101T000054Z
LAST-MODIFIED:20240110T030911Z
UID:820-1705237200-1705240800@scenicbaybaptist.org
SUMMARY:Singspiration
DESCRIPTION:
URL:https://scenicbaybaptist.org/event/singspirtation
ATTACH;FMTTYPE=image/png:https://scenicbaybaptist.org/wp-content/uploads/2024/01/world-music-day-social-media-template-1.png
END:VEVENT
BEGIN:VEVENT
DTSTART;TZID=UTC:20240107T120000
DTEND;TZID=UTC:20240107T123000
DTSTAMP:20260423T145634
CREATED:20240101T000054Z
LAST-MODIFIED:20240102T013817Z
UID:813-1704628800-1704630600@scenicbaybaptist.org
SUMMARY:Lord's Supper
DESCRIPTION:
URL:https://scenicbaybaptist.org/event/lords-supper
ATTACH;FMTTYPE=image/png:https://scenicbaybaptist.org/wp-content/uploads/2024/01/Bread-Making-Simple-Instagram-Post-1.png
END:VEVENT
BEGIN:VEVENT
DTSTART;TZID=UTC:20231224T110000
DTEND;TZID=UTC:20231224T120000
DTSTAMP:20260423T145634
CREATED:20231219T030659Z
LAST-MODIFIED:20231219T030726Z
UID:578-1703415600-1703419200@scenicbaybaptist.org
SUMMARY:Christmas Eve Service
DESCRIPTION:No Sunday School today. Come join us for a special Christmas Eve service as we celebrate the birth of the Savior together.
URL:https://scenicbaybaptist.org/event/christmas-eve-service
END:VEVENT
END:VCALENDAR